BEGIN:VCALENDAR
VERSION:2.0
PRODID:-//Navy League Brantford Brant - ECPv6.15.20//NONSGML v1.0//EN
CALSCALE:GREGORIAN
METHOD:PUBLISH
X-ORIGINAL-URL:https://nlbrantford.com
X-WR-CALDESC:Events for Navy League Brantford Brant
REFRESH-INTERVAL;VALUE=DURATION:PT1H
X-Robots-Tag:noindex
X-PUBLISHED-TTL:PT1H
BEGIN:VTIMEZONE
TZID:America/Toronto
BEGIN:DAYLIGHT
TZOFFSETFROM:-0500
TZOFFSETTO:-0400
TZNAME:EDT
DTSTART:20230312T070000
END:DAYLIGHT
BEGIN:STANDARD
TZOFFSETFROM:-0400
TZOFFSETTO:-0500
TZNAME:EST
DTSTART:20231105T060000
END:STANDARD
BEGIN:DAYLIGHT
TZOFFSETFROM:-0500
TZOFFSETTO:-0400
TZNAME:EDT
DTSTART:20240310T070000
END:DAYLIGHT
BEGIN:STANDARD
TZOFFSETFROM:-0400
TZOFFSETTO:-0500
TZNAME:EST
DTSTART:20241103T060000
END:STANDARD
BEGIN:DAYLIGHT
TZOFFSETFROM:-0500
TZOFFSETTO:-0400
TZNAME:EDT
DTSTART:20250309T070000
END:DAYLIGHT
BEGIN:STANDARD
TZOFFSETFROM:-0400
TZOFFSETTO:-0500
TZNAME:EST
DTSTART:20251102T060000
END:STANDARD
END:VTIMEZONE
BEGIN:VEVENT
DTSTART;TZID=America/Toronto:20240505T110000
DTEND;TZID=America/Toronto:20240505T120000
DTSTAMP:20260421T131849
CREATED:20240505T120234Z
LAST-MODIFIED:20240505T120848Z
UID:4893-1714906800-1714910400@nlbrantford.com
SUMMARY:Battle of the Atlantic Parade
DESCRIPTION:Please join us at 119 Waterloo St\, Brantford\, ON for the 79th Annual Battle of the Atlantic parade. \nParade Starts at 11 Am.
URL:https://nlbrantford.com/event/battle-of-the-atlantic-parade/
CATEGORIES:Admiral Landymore,Admiral Nelles,Navy League
ATTACH;FMTTYPE=image/png:https://nlbrantford.com/wp-content/uploads/2024/05/13.png
END:VEVENT
END:VCALENDAR